BEGIN:VCALENDAR
CALSCALE:GREGORIAN
VERSION:2.0
METHOD:PUBLISH
PRODID:www.waldenburg.de
BEGIN:VEVENT
TZID:Europe/Berlin
UID:2924-1-1@www.waldenburg.de
SUMMARY:Kammerkonzert - ein Konzert des Artis Causa e.V.
DESCRIPTION:Jörg Faßmann\, ViolineLena Matejakova\, ViolineAnya Dambeck\, ViolaMatthias Wilde\, VioloncelloAndreas Hecker\, Klavier\nGiuseppe Martucci Klavierquintett C-Dur op. 45Johannes Brahms Klavierquintett f-Moll op. 34\nAls Abschluss der Konzertreihe im Blauen Saal gönnen wir uns auf zwei prachtvolle Klavierquintette. Wer kennt hierzulande Giuseppe Martucci? Mediterrane Klänge von 1878 sind nördlich der Alpen selten zu hören – umso mehr freuen wir uns\, dass das „Ensemble International" dies zauberhafte Werk vorstellt. Das an sinfonische Klänge erinnernde Klavierquintett von Brahms\, in dem sich Schubert und Wagner die Hände zu reichen scheinen\, begeisterte bereits Clara Schumann. Der Geiger Hermann Levi nannte es „ein Meisterwerk an Kammermusik\, wie wir seit dem Tode Schuberts kein zweites aufzuweisen haben".
LOCATION:Schloss Waldenburg
DTSTART:20261122T170000
DTEND:20261122T170000
DTSTAMP:20260424T115653Z
END:VEVENT
BEGIN:VEVENT
TZID:Europe/Berlin
UID:2925-1-1@www.waldenburg.de
SUMMARY:Kammerkonzert - ein Konzert des Artis Causa e.V.
DESCRIPTION:Federico Kasik\, ViolineTheresa Beldi\, VioloncelloCristian Beldi\, Klavier\nFranz Schubert Klaviertrio Es-Dur op. 100Peter Tschaikowksy Klaviertrio a-Moll op. 50\nZwei Werke des Herbstes: Schubert veröffentlichte das Trio op. 100 in seinem Todesjahr 1828. Es ist durchzogen von erhabener Melancholie\, durch die immer wieder späte Sonnenstrahlen scheinen. Auch das Opus 50 von Tschaikowsky besitzt einen ernsten Hintergrund: Sein verehrter Lehrer Nikolai Rubinstein\, Gründer des Moskauer Konservatoriums\, was 1881 überraschend verstorben. Im Winter 1881/82 komponierte Tschaikowsky in Rom das monumentale Werk\, welches er „A la mémoire d'un grande artiste" widmete und in seiner nahezu sinfonischen Dimension die Klangbreite des Klaviertrios ausschöpft.\n 
LOCATION:Schloss Waldenburg
DTSTART:20261004T170000
DTEND:20261004T170000
DTSTAMP:20260424T115653Z
END:VEVENT
BEGIN:VEVENT
TZID:Europe/Berlin
UID:2926-1-1@www.waldenburg.de
SUMMARY:Kammerkonzert - ein Konzert des Artis Causa e.V.
DESCRIPTION:Lukas Stepp\, ViolineMoeko Ezaki\, Klavier\nWolfgang Amadeus Mozart Sonate e-Moll KV 304Maurice Ravel Sonate für Violine & KlavierJohannes Brahms Sonate G-Dur op. 78\nEs ist eine besondere Freude\, dass der Staatskapell-Konzertmeister Lukas Stepp und die wunderbare Pianistin Moeko Ezaki auch in dieser Saison im Blauen Saal musizieren. Neben einer frühen Sonate von Mozart ist Maurice Ravels letztes Kammermusikwerk von 1923/27 zu hören. Die Sonate für Violine und Klavier illustriert mit Augenzwinkern die – nach Ravels Meinung – Unvereinbarkeit dieser Instrumente\, berühmt ist der langsame Satz mit seinen Jazz-Klängen. Brahms' Meisterwerk von 1878 verarbeitet beglückende Naturerlebnisse und tiefe persönliche Trauer zu poetisch-innigem Gesamtklang.
LOCATION:Schloss Waldenburg
DTSTART:20260614T170000
DTEND:20260614T170000
DTSTAMP:20260424T115653Z
END:VEVENT
BEGIN:VEVENT
TZID:Europe/Berlin
UID:2927-1-1@www.waldenburg.de
SUMMARY:Kammerkonzert - ein Konzert des Artis Causa e.V.
DESCRIPTION:Yuki Manuela Janke\, ViolineTitus Maack\, VioloncelloJohannes Wulff-Woesten\, Klavier\nFelix Mendelssohn Bartholdy Klaviertrio d-Moll op. 49Fritz Kreisler Drei Stücke für KlaviertrioErich Wolfgang Korngold Klaviertrio D-Dur op. 1\nDie erste Konzertmeisterin der Sächsischen Staatskapelle musiziert gemeinsam mit ihrem Mann am Cello und dem Studienleiter der Semperoper am Klavier. Mendelssohns Klaviertrio ist eines der schönsten Werke dieser Gattung\, welches alle Brillanz und Klangschönheit dieses Komponisten vereint. Fritz Kreisler war als Virtuose weltberühmt und arrangierte einige seiner Zugabe-Stücke für Klaviertrio. Erich Wolfgang Korngold galt neben Richard Strauss als bedeutendster deutschsprachiger Komponist jener Zeit\, geriet aber etwas in Vergessenheit\, als er in die USA emigrieren musste und dort erfolgreicher Filmkomponist wurde.
LOCATION:Schloss Waldenburg
DTSTART:20260503T170000
DTEND:20260503T170000
DTSTAMP:20260424T115653Z
END:VEVENT
END:VCALENDAR