BEGIN:VCALENDAR
CALSCALE:GREGORIAN
VERSION:2.0
METHOD:PUBLISH
PRODID:www.waldenburg.de
BEGIN:VEVENT
TZID:Europe/Berlin
UID:2928-1-1@www.waldenburg.de
SUMMARY:MOZARTiade GRENZENLOS
DESCRIPTION:Sonntag\, 10. Mai 2026 17.00 Uhr - 19.00 UhrSt. Bartholomäuskirche Waldenburg„MOZARTiade GRENZENLOS!"junge Vokalmusik begegnet klassischer SpielfreudeWas gibt es Schöneres\, als jungen hochbegabten Musiker:innen zu lauschen? Im Rahmen unseres 35. Sächsischen Mozartfestes „Von Angesicht zu Angesicht" 2026 schaffen wir eine inspirierende und begeisternde Begegnung zweier Ensembles: Das junge Vokalensemble ArtCor aus der mährischen Stadt Prostějov ist Preisträger des internationalen Chorfestivals JIRKOVSKÝ PÍSŇOVAR 2025. Wir laden es gemeinsam mit der Jungen Camerata Dresden des Sächsischen Landesgymnasiums für Musik\, das in diesem Jahr seinen 60. Geburtstag feiert\, ein. Auf dem Programm stehen Werke von\, na klar\, Wolfgang Amadé Mozart\, Joseph Haydn\, dazu viele junge Töne... Lassen Sie sich begeistern: Mozart grenzenlos!\nTabea Klein – ViolineArthur Klein – Horn (Stipendiat der Sächsischen Mozart-Gesellschaft e.V. 2025)\nJunge Camerata Dresden des Sächsischen Landesgymnasiums für MusikSebastian Dietrich – Leitung\nVokalensemble ArtCor (Prostějov)Zuzana Gašparová – Leitung\nEintritt: 20 €\, ermäßigt 16 €Kartenverkaufauch über die Geschäftsstellen der Sächsischen Mozart-Gesellschaft e.V.:\nFreundeskreis Waldenburg (Peniger Straße 3\, 08396 Waldenburg)montags 9-12 Uhr und 14-16 UhrTel. +49 37608 284130 E-Mail: steffi.grigo@mozart-sachsen.de\nChemnitz (Hartmannstraße 7c\, 09111 Chemnitz)montags bis freitags 9-16 UhrTel. +49 371 6949444 E-Mail: info@mozart-sachsen.de\nTickets außerdem in allen Freie-Presse-Shops in Ihrer Nähe und online unter www.freiepresse.de/vorort\nDiese Veranstaltung der Sächsischen Mozart-Gesellschaft e.V. Freundeskreis Waldenburg in der Reihe „Mozart für Morgen" des 35. Sächsischen Mozartfestes „Von Angesicht zu Angesicht" 2026\, gefördert durch die Stadt Waldenburg\, mit freundlicher Unterstützung durch die Sparkasse Chemnitz\, ist Teil des Projektes „Mit vielfältigen Wurzeln die Zukunft gestalten S rozmanitými kořeny tvořit budoucnost"\, welches im Rahmen des deutsch-tschechischen Kooperationsprojekts des Lead-Partners Sächsischer Musikrat e.V. und der beiden Projektpartner Sächsische Mozart-Gesellschaft e.V. und Základní umělecká škola T. G. Masaryka Chomutov\, im Programm „Interreg Sachsen – Tschechien 2021-2027"\, stattfindet.
LOCATION:St. Bartholomäuskirche in Waldenburg
DTSTART:20260510T170000
DTEND:20260510T190000
DTSTAMP:20260424T115627Z
END:VEVENT
END:VCALENDAR