BEGIN:VCALENDAR
CALSCALE:GREGORIAN
VERSION:2.0
METHOD:PUBLISH
PRODID:www.waldenburg.de
BEGIN:VEVENT
TZID:Europe/Berlin
UID:2930-1-1@www.waldenburg.de
SUMMARY:16. Treffen der Fahrräder mit Hilfsmotor in Remse am Bahnhof
DESCRIPTION:In diesem Jahr möchten wir die Veranstaltung gern neu auflebenlassen und allen Interessierten die Möglichkeit geben\, sich wiedereinmal zu treffen\, auszutauschen und einen gemütlichen Tagmiteinander zu verbringen.Stattfinden soll das Hühnerschreck Treffen am31. Mai 2026 von 09 – 15 UhrDer Ablauf orientiert sich am altbewährten Veranstaltungsplan.• 09-11 Uhr Eintreffen der Teilnehmer und Teilnehmerinnen• 11-13 Uhr Ausstellung der Fahrzeuge• 13-14 Uhr Rundfahrt mit den Rädernanschließend VerabschiedungFür einen kleinen Imbiss soll auch gesorgt werden.Um aber nicht umsonst Zeit und Geld in Planung und Organisationzu stecken\, müssen wir wissen\, ob du Interesse hast\, an derVeranstaltung teilzunehmen. Fülle bitte deshalb beiliegendeAnmeldung aus und schicke sie bis zum30. März 2026 per Mail oder Post an uns zurück.Solltest du noch weitere MAW-Freunde/Freundinnen oder Händlerfür Ersatzteile kennen\, gib meine Kontaktdaten gern weiter.Wir sind dankbar für jede Bereicherung der Veranstaltung
LOCATION:Bahnhof Remse
DTSTART:20260531T090000
DTEND:20260531T150000
DTSTAMP:20260424T115724Z
END:VEVENT
END:VCALENDAR