BEGIN:VCALENDAR
CALSCALE:GREGORIAN
VERSION:2.0
METHOD:PUBLISH
PRODID:www.waldenburg.de
BEGIN:VEVENT
TZID:Europe/Berlin
UID:2931-1-1@www.waldenburg.de
SUMMARY:Feierliche Wiedereröffnung des Museum Naturalienkabinett
DESCRIPTION:Feierliche Wiedereröffnung des Museums Naturalienkabinett\nAm 09. Mai 2026 ist es endlich so weit: Das Museum Naturalienkabinett öffnet wieder seine Türen und lädt Besucherinnen und Besucher herzlich zur feierlichen Wiedereröffnung ein. Ab 14.00 Uhr erwartet die Gäste ein abwechslungsreiches Programm für die ganze Familie.Freuen Sie sich auf kostenfreie Führungen durch das Museum\, bei denen spannende Einblicke in die Begleitausstellung und Sammlungen des Naturalienkabinetts gegeben werden. Dabei erfahren Sie Wissenswertes über die besonderen Exponate und die Geschichten hinter den Objekten.Auch für die jüngeren Besucherinnen und Besucher ist gesorgt: Ein Kinderprogramm mit kreativen und spielerischen Angeboten lädt zum Mitmachen ein.\nFür die passende Atmosphäre sorgt die musikalische Umrahmung durch DJ Ralle. Ergänzt wird das Programm durch ein kulinarisches Angebot\, das zum Verweilen und Genießen einlädt.\nDie Wiedereröffnung bietet eine wunderbare Gelegenheit\, das Museum neu zu entdecken und einen abwechslungsreichen Nachmittag in besonderer Atmosphäre zu erleben.\nDatum: 09. Mai 2026Uhrzeit: ab 14.00 UhrOrt: Museum Naturalienkabinett\nWir freuen uns darauf\, Sie zur Wiedereröffnung im Museum Naturalienkabinett begrüßen zu dürfen!
LOCATION:Museum Naturalienkabinett in Waldenburg
DTSTART:20260509T140000
DTEND:20260509T140000
DTSTAMP:20260424T115601Z
END:VEVENT
END:VCALENDAR