BEGIN:VCALENDAR
CALSCALE:GREGORIAN
VERSION:2.0
METHOD:PUBLISH
PRODID:www.waldenburg.de
BEGIN:VEVENT
TZID:Europe/Berlin
UID:2933-1-1@www.waldenburg.de
SUMMARY:Tonspur Waldenburg
DESCRIPTION:„Tonspur Waldenburg" bringt im Herbst 2026 Musik\, Kreativität und Begegnung in die ganze Stadt. An vielen kleinen Stationen –können Bürgerinnen und Bürger Workshops\, Mini Konzerte\, Bastel oder Bewegungsaktionen anbieten oder einfach spontan mitmachen. Lokale Vereine\, Nachbarschaften und Einzelpersonen gestalten den Tag gemeinsam und zeigen\, wie vielfältig Waldenburg ist und auch klingt. Ein Abschlusskonzert rundet das Programm ab. Alle Waldenburgerinnen und Waldenburger sind eingeladen\, selbst eine kleine Station beizutragen und Teil der „Tonspur" zu werden. Meldet euch einfach noch an. Das Tonspur-Orgateam bringt die Akteure zusammen\, unterstützt euch wo Ihr noch Hilfe braucht oder vielleicht einen musikalischen Event für eure Location und übernimmt die Kommunikation für den Erlebnistag in den Medien. Kontakt: tonspurwaldenburg@gmail.com
LOCATION:Waldenburg
DTSTART:20260919T140000
DTEND:20260919T140000
DTSTAMP:20260424T115550Z
END:VEVENT
BEGIN:VEVENT
TZID:Europe/Berlin
UID:2933-2-1@www.waldenburg.de
SUMMARY:Tonspur Waldenburg
DESCRIPTION:„Tonspur Waldenburg" bringt im Herbst 2026 Musik\, Kreativität und Begegnung in die ganze Stadt. An vielen kleinen Stationen –können Bürgerinnen und Bürger Workshops\, Mini Konzerte\, Bastel oder Bewegungsaktionen anbieten oder einfach spontan mitmachen. Lokale Vereine\, Nachbarschaften und Einzelpersonen gestalten den Tag gemeinsam und zeigen\, wie vielfältig Waldenburg ist und auch klingt. Ein Abschlusskonzert rundet das Programm ab. Alle Waldenburgerinnen und Waldenburger sind eingeladen\, selbst eine kleine Station beizutragen und Teil der „Tonspur" zu werden. Meldet euch einfach noch an. Das Tonspur-Orgateam bringt die Akteure zusammen\, unterstützt euch wo Ihr noch Hilfe braucht oder vielleicht einen musikalischen Event für eure Location und übernimmt die Kommunikation für den Erlebnistag in den Medien. Kontakt: tonspurwaldenburg@gmail.com
LOCATION:Waldenburg
DTSTART:20260920T140000
DTEND:20260920T140000
DTSTAMP:20260424T115550Z
END:VEVENT
BEGIN:VEVENT
TZID:Europe/Berlin
UID:2933-3-1@www.waldenburg.de
SUMMARY:Tonspur Waldenburg
DESCRIPTION:„Tonspur Waldenburg" bringt im Herbst 2026 Musik\, Kreativität und Begegnung in die ganze Stadt. An vielen kleinen Stationen –können Bürgerinnen und Bürger Workshops\, Mini Konzerte\, Bastel oder Bewegungsaktionen anbieten oder einfach spontan mitmachen. Lokale Vereine\, Nachbarschaften und Einzelpersonen gestalten den Tag gemeinsam und zeigen\, wie vielfältig Waldenburg ist und auch klingt. Ein Abschlusskonzert rundet das Programm ab. Alle Waldenburgerinnen und Waldenburger sind eingeladen\, selbst eine kleine Station beizutragen und Teil der „Tonspur" zu werden. Meldet euch einfach noch an. Das Tonspur-Orgateam bringt die Akteure zusammen\, unterstützt euch wo Ihr noch Hilfe braucht oder vielleicht einen musikalischen Event für eure Location und übernimmt die Kommunikation für den Erlebnistag in den Medien. Kontakt: tonspurwaldenburg@gmail.com
LOCATION:Waldenburg
DTSTART:20260921T140000
DTEND:20260921T140000
DTSTAMP:20260424T115550Z
END:VEVENT
BEGIN:VEVENT
TZID:Europe/Berlin
UID:2933-4-1@www.waldenburg.de
SUMMARY:Tonspur Waldenburg
DESCRIPTION:„Tonspur Waldenburg" bringt im Herbst 2026 Musik\, Kreativität und Begegnung in die ganze Stadt. An vielen kleinen Stationen –können Bürgerinnen und Bürger Workshops\, Mini Konzerte\, Bastel oder Bewegungsaktionen anbieten oder einfach spontan mitmachen. Lokale Vereine\, Nachbarschaften und Einzelpersonen gestalten den Tag gemeinsam und zeigen\, wie vielfältig Waldenburg ist und auch klingt. Ein Abschlusskonzert rundet das Programm ab. Alle Waldenburgerinnen und Waldenburger sind eingeladen\, selbst eine kleine Station beizutragen und Teil der „Tonspur" zu werden. Meldet euch einfach noch an. Das Tonspur-Orgateam bringt die Akteure zusammen\, unterstützt euch wo Ihr noch Hilfe braucht oder vielleicht einen musikalischen Event für eure Location und übernimmt die Kommunikation für den Erlebnistag in den Medien. Kontakt: tonspurwaldenburg@gmail.com
LOCATION:Waldenburg
DTSTART:20260922T140000
DTEND:20260922T140000
DTSTAMP:20260424T115550Z
END:VEVENT
BEGIN:VEVENT
TZID:Europe/Berlin
UID:2933-5-1@www.waldenburg.de
SUMMARY:Tonspur Waldenburg
DESCRIPTION:„Tonspur Waldenburg" bringt im Herbst 2026 Musik\, Kreativität und Begegnung in die ganze Stadt. An vielen kleinen Stationen –können Bürgerinnen und Bürger Workshops\, Mini Konzerte\, Bastel oder Bewegungsaktionen anbieten oder einfach spontan mitmachen. Lokale Vereine\, Nachbarschaften und Einzelpersonen gestalten den Tag gemeinsam und zeigen\, wie vielfältig Waldenburg ist und auch klingt. Ein Abschlusskonzert rundet das Programm ab. Alle Waldenburgerinnen und Waldenburger sind eingeladen\, selbst eine kleine Station beizutragen und Teil der „Tonspur" zu werden. Meldet euch einfach noch an. Das Tonspur-Orgateam bringt die Akteure zusammen\, unterstützt euch wo Ihr noch Hilfe braucht oder vielleicht einen musikalischen Event für eure Location und übernimmt die Kommunikation für den Erlebnistag in den Medien. Kontakt: tonspurwaldenburg@gmail.com
LOCATION:Waldenburg
DTSTART:20260923T140000
DTEND:20260923T140000
DTSTAMP:20260424T115550Z
END:VEVENT
BEGIN:VEVENT
TZID:Europe/Berlin
UID:2933-6-1@www.waldenburg.de
SUMMARY:Tonspur Waldenburg
DESCRIPTION:„Tonspur Waldenburg" bringt im Herbst 2026 Musik\, Kreativität und Begegnung in die ganze Stadt. An vielen kleinen Stationen –können Bürgerinnen und Bürger Workshops\, Mini Konzerte\, Bastel oder Bewegungsaktionen anbieten oder einfach spontan mitmachen. Lokale Vereine\, Nachbarschaften und Einzelpersonen gestalten den Tag gemeinsam und zeigen\, wie vielfältig Waldenburg ist und auch klingt. Ein Abschlusskonzert rundet das Programm ab. Alle Waldenburgerinnen und Waldenburger sind eingeladen\, selbst eine kleine Station beizutragen und Teil der „Tonspur" zu werden. Meldet euch einfach noch an. Das Tonspur-Orgateam bringt die Akteure zusammen\, unterstützt euch wo Ihr noch Hilfe braucht oder vielleicht einen musikalischen Event für eure Location und übernimmt die Kommunikation für den Erlebnistag in den Medien. Kontakt: tonspurwaldenburg@gmail.com
LOCATION:Waldenburg
DTSTART:20260924T140000
DTEND:20260924T140000
DTSTAMP:20260424T115550Z
END:VEVENT
BEGIN:VEVENT
TZID:Europe/Berlin
UID:2933-7-1@www.waldenburg.de
SUMMARY:Tonspur Waldenburg
DESCRIPTION:„Tonspur Waldenburg" bringt im Herbst 2026 Musik\, Kreativität und Begegnung in die ganze Stadt. An vielen kleinen Stationen –können Bürgerinnen und Bürger Workshops\, Mini Konzerte\, Bastel oder Bewegungsaktionen anbieten oder einfach spontan mitmachen. Lokale Vereine\, Nachbarschaften und Einzelpersonen gestalten den Tag gemeinsam und zeigen\, wie vielfältig Waldenburg ist und auch klingt. Ein Abschlusskonzert rundet das Programm ab. Alle Waldenburgerinnen und Waldenburger sind eingeladen\, selbst eine kleine Station beizutragen und Teil der „Tonspur" zu werden. Meldet euch einfach noch an. Das Tonspur-Orgateam bringt die Akteure zusammen\, unterstützt euch wo Ihr noch Hilfe braucht oder vielleicht einen musikalischen Event für eure Location und übernimmt die Kommunikation für den Erlebnistag in den Medien. Kontakt: tonspurwaldenburg@gmail.com
LOCATION:Waldenburg
DTSTART:20260925T140000
DTEND:20260925T140000
DTSTAMP:20260424T115550Z
END:VEVENT
END:VCALENDAR