BEGIN:VCALENDAR
CALSCALE:GREGORIAN
VERSION:2.0
METHOD:PUBLISH
PRODID:www.waldenburg.de
BEGIN:VEVENT
TZID:Europe/Berlin
UID:2936-1-1@www.waldenburg.de
SUMMARY:Öffentliche Parkführung "Schönburgische Garten(t)räume" 
DESCRIPTION:Am 27.09.2026 erfahren Sie im Rahmen der 1\,5-stündigen Führung "Schönburgische Garten(t)räume" viel Wissenswertes und Besonderes über den ursprünglichen Charakter des Parks und seiner Monumente\, über seine Funktion als fürstlichen Sommersitz sowie über die aufgeklärte Reformpolitik des Fürstenhauses um 1800. Die Führung beginnt um 14.30 Uhr am ehemaligen Restaurant Grünfelder Schloss.Tickets gibt es vor Ort\, eine vorherige Anmeldung ist nicht erforderlich.
LOCATION:Grünfelder Park
DTSTART:20260927T143000
DTEND:20260927T143000
DTSTAMP:20260424T115628Z
END:VEVENT
END:VCALENDAR