BEGIN:VCALENDAR
CALSCALE:GREGORIAN
VERSION:2.0
METHOD:PUBLISH
PRODID:www.waldenburg.de
BEGIN:VEVENT
TZID:Europe/Berlin
UID:2937-1-1@www.waldenburg.de
SUMMARY:Öffentliche Besichtigung des Badehauses im Grünfelder Park
DESCRIPTION:Besuchen Sie am 31.05.2026 das geöffnete Badehaus – ein romantischer Gartentempel\, idyllisch gelegen im Grünfelder Park\, einem der bedeutendsten englischen Landschaftsgärten Sachsens. Entdecken Sie dieses architektonische Schmuckstück mit Geschichte und erleben Sie ein besonderes Highlight – exklusiv im Rahmen des Basilikummarktes! Besichtigung möglich von 11.00 -15.00 Uhr\, keine Voranmeldung nötig.
LOCATION:Grünfelder Park
DTSTART:20260531T110000
DTEND:20260531T110000
DTSTAMP:20260424T115816Z
END:VEVENT
END:VCALENDAR