BEGIN:VCALENDAR
CALSCALE:GREGORIAN
VERSION:2.0
METHOD:PUBLISH
PRODID:www.waldenburg.de
BEGIN:VEVENT
TZID:Europe/Berlin
UID:2938-1-1@www.waldenburg.de
SUMMARY:Führungen im Badehaus und durch das Mausoleum zum Tag des offenen Denkmals 
DESCRIPTION:Besuchen Sie zum Tag des offenen Denkmals am 13.09. das historische Badehaus – ein romantischer Gartentempel\, idyllisch gelegen im Grünfelder Park\, einem der bedeutendsten englischen Landschaftsgärten Sachsens. Entdecken Sie dieses architektonische Schmuckstück mit Geschichte. \nAuch das Mausoleum im Grünfelder Park kann an diesem Tag um 15:00 Uhr besichtigt werden. Errichtet zwischen 1813 und 1816 als Gedenkstätte für Otto Carl Friedrich beeindruckt es durch seine klassizistische Architektur.\nTickets gibt es vor Ort\, eine Voranmeldung ist nicht erforderlich.
DTSTART:20260913T140000
DTEND:20260913T140000
DTSTAMP:20260424T115434Z
END:VEVENT
BEGIN:VEVENT
TZID:Europe/Berlin
UID:2938-1-2@www.waldenburg.de
SUMMARY:Führungen im Badehaus und durch das Mausoleum zum Tag des offenen Denkmals 
DESCRIPTION:Besuchen Sie zum Tag des offenen Denkmals am 13.09. das historische Badehaus – ein romantischer Gartentempel\, idyllisch gelegen im Grünfelder Park\, einem der bedeutendsten englischen Landschaftsgärten Sachsens. Entdecken Sie dieses architektonische Schmuckstück mit Geschichte. \nAuch das Mausoleum im Grünfelder Park kann an diesem Tag um 15:00 Uhr besichtigt werden. Errichtet zwischen 1813 und 1816 als Gedenkstätte für Otto Carl Friedrich beeindruckt es durch seine klassizistische Architektur.\nTickets gibt es vor Ort\, eine Voranmeldung ist nicht erforderlich.
DTSTART:20260913T150000
DTEND:20260913T150000
DTSTAMP:20260424T115434Z
END:VEVENT
END:VCALENDAR