BEGIN:VCALENDAR
CALSCALE:GREGORIAN
VERSION:2.0
METHOD:PUBLISH
PRODID:www.waldenburg.de
BEGIN:VEVENT
TZID:Europe/Berlin
UID:2940-1-1@www.waldenburg.de
SUMMARY:Szenische Parkführung Greenfield - Ein Sommernachtstraum
DESCRIPTION:Im Licht der Abenddämmerung laden wir Sie am 08.08.2026 (19.00 Uhr oder 21.00 Uhr) ein\, die einstige Sommerresidenz der Fürsten von Schönburg auf ganz besondere Weise zu erleben. In zauberhafter Kulisse und umrahmt von stimmungsvoller Musik werden Sie in vergangene Zeiten entführt. Freuen Sie sich auf den Auftritt historischer Persönlichkeiten und geheimnisvoller\, mythischer Gestalten. Schnell Karten für einen zauberhaften Abend sichern! Unter karten@circulus-iucundus.de
DTSTART:20260808T190000
DTEND:20260808T190000
DTSTAMP:20260424T115459Z
END:VEVENT
BEGIN:VEVENT
TZID:Europe/Berlin
UID:2940-1-2@www.waldenburg.de
SUMMARY:Szenische Parkführung Greenfield - Ein Sommernachtstraum
DESCRIPTION:Im Licht der Abenddämmerung laden wir Sie am 08.08.2026 (19.00 Uhr oder 21.00 Uhr) ein\, die einstige Sommerresidenz der Fürsten von Schönburg auf ganz besondere Weise zu erleben. In zauberhafter Kulisse und umrahmt von stimmungsvoller Musik werden Sie in vergangene Zeiten entführt. Freuen Sie sich auf den Auftritt historischer Persönlichkeiten und geheimnisvoller\, mythischer Gestalten. Schnell Karten für einen zauberhaften Abend sichern! Unter karten@circulus-iucundus.de
DTSTART:20260808T210000
DTEND:20260808T210000
DTSTAMP:20260424T115459Z
END:VEVENT
END:VCALENDAR