BEGIN:VCALENDAR
CALSCALE:GREGORIAN
VERSION:2.0
METHOD:PUBLISH
PRODID:www.waldenburg.de
BEGIN:VEVENT
TZID=Europe/Berlin
UID:2945-0@www.waldenburg.de
SUMMARY:Ferienprogramm: "Deine Story! - Dein Film!"
DESCRIPTION:Anmeldung unter www.mekosax.de/waldenburg
LOCATION:Schloss Waldenburg
DTSTART:20260810
DTEND:20260810
END:VEVENT
END:VCALENDAR