BEGIN:VCALENDAR
CALSCALE:GREGORIAN
VERSION:2.0
METHOD:PUBLISH
PRODID:www.waldenburg.de
BEGIN:VEVENT
TZID=Europe/Berlin
UID:2942-0@www.waldenburg.de
SUMMARY:Zeitsprung (-nacht)
DESCRIPTION:Save the Date ...
LOCATION:Schloss Waldenburg
DTSTART:20261024
DTEND:20261024
END:VEVENT
END:VCALENDAR