BEGIN:VCALENDAR
CALSCALE:GREGORIAN
VERSION:2.0
METHOD:PUBLISH
PRODID:www.waldenburg.de
BEGIN:VEVENT
TZID:Europe/Berlin
UID:2943-1-1@www.waldenburg.de
SUMMARY:Kinderthemenprogramm  - Backen mit Feli in der historischen Küche
DESCRIPTION:„Die fürstliche Küche zum Leben erwecken" – mit der Küchenfee Felicitas\nAdvents-Kekse backen: „Komm und entdecke das fürstliche Backvergnügen für Kinder in der historischen Küche von Schloss Waldenburg. Erlebe gemeinsam mit uns eine fantastische Backzeit\, bei der du deine eigenen Kekse backen kannst und stolz mit nach Hause nehmen darfst." Währenddessen haben erwachsene Begleitpersonen die Wahl: Entweder erkunden Sie das Schloss oder unterstützen die kleinen Meisterbäcker. Jedes Kind sollte von einer erwachsenen Aufsichtsperson begleitet werden. Die gesamte Veranstaltung dauert etwa eine bis eineinhalb Stunden und ist für Kinder im Alter von 7 bis 11 Jahren geeignet.Kinder: 11\,50 € (inklusive Erlebnisbacken in der historischen Küche und einem Beutel selbst gebackener Kekse) Erwachsene: 10\,50 €\nBitte erscheinen Sie 15 Minuten vor Beginn am Empfang.Begrenzt Plätze - Reservierungen empfohlen.
LOCATION:Schloss Waldenburg
DTSTART:20261129T113000
DTEND:20261129T113000
DTSTAMP:20260424T115434Z
END:VEVENT
BEGIN:VEVENT
TZID:Europe/Berlin
UID:2944-1-1@www.waldenburg.de
SUMMARY:Kinderthemenprogramm  - Backen mit Feli in der historischen Küche
DESCRIPTION:„Die fürstliche Küche zum Leben erwecken" – mit der Küchenfee Felicitas\nAdvents-Kekse backen: „Komm und entdecke das fürstliche Backvergnügen für Kinder in der historischen Küche von Schloss Waldenburg. Erlebe gemeinsam mit uns eine fantastische Backzeit\, bei der du deine eigenen Kekse backen kannst und stolz mit nach Hause nehmen darfst." Währenddessen haben erwachsene Begleitpersonen die Wahl: Entweder erkunden Sie das Schloss oder unterstützen die kleinen Meisterbäcker. Jedes Kind sollte von einer erwachsenen Aufsichtsperson begleitet werden. Die gesamte Veranstaltung dauert etwa eine bis eineinhalb Stunden und ist für Kinder im Alter von 7 bis 11 Jahren geeignet.Kinder: 11\,50 € (inklusive Erlebnisbacken in der historischen Küche und einem Beutel selbst gebackener Kekse) Erwachsene: 10\,50 €\nBitte erscheinen Sie 15 Minuten vor Beginn am Empfang.Begrenzt Plätze - Reservierungen empfohlen.
LOCATION:Schloss Waldenburg
DTSTART:20261129T140000
DTEND:20261129T140000
DTSTAMP:20260424T115434Z
END:VEVENT
END:VCALENDAR