BEGIN:VCALENDAR
CALSCALE:GREGORIAN
VERSION:2.0
METHOD:PUBLISH
PRODID:www.waldenburg.de
BEGIN:VEVENT
TZID:Europe/Berlin
UID:2946-1-1@www.waldenburg.de
SUMMARY:Kinderthemenprogramm "Leben in einem Schloss"
DESCRIPTION:Unsere beliebte Kinderführung "Leben in einem Schloss" mit den beiden Zwillingsbrüdern "Micha &amp\; Mischa" findet wieder in den Ferien statt. Der Speiseplan von 1900 - was haben die Reichen gegessen und was gab es für die Armen. Wie lebten die Reichen und die Armen zur "guten alten Zeit". Erziehung und Ausbildung in den Adelsfamilien... Eine interessante und kindergerechte Führung im Alter von 7 bis 10 Jahre. \nPreis: Erwachsene 10\,50 € | Kind 8\,50 € (Eine erwachsene Person pro Kind.) 
LOCATION:Schloss Waldenburg
DTSTART:20260722T100000
DTEND:20260722T100000
DTSTAMP:20260424T115653Z
END:VEVENT
BEGIN:VEVENT
TZID:Europe/Berlin
UID:2947-1-1@www.waldenburg.de
SUMMARY:Kinderthemenprogramm "Leben in einem Schloss"
DESCRIPTION:Unsere beliebte Kinderführung "Leben in einem Schloss" mit den beiden Zwillingsbrüdern "Micha &amp\; Mischa" findet wieder in den Ferien statt. Der Speiseplan von 1900 - was haben die Reichen gegessen und was gab es für die Armen. Wie lebten die Reichen und die Armen zur "guten alten Zeit". Erziehung und Ausbildung in den Adelsfamilien... Eine interessante und kindergerechte Führung im Alter von 7 bis 10 Jahre. \nPreis: Erwachsene 10\,50 € | Kind 8\,50 € (Eine erwachsene Person pro Kind.) 
LOCATION:Schloss Waldenburg
DTSTART:20260722T130000
DTEND:20260722T130000
DTSTAMP:20260424T115653Z
END:VEVENT
BEGIN:VEVENT
TZID:Europe/Berlin
UID:2948-1-1@www.waldenburg.de
SUMMARY:Kinderthemenprogramm "Leben in einem Schloss"
DESCRIPTION:Unsere beliebte Kinderführung "Leben in einem Schloss" mit den beiden Zwillingsbrüdern "Micha &amp\; Mischa" findet wieder in den Ferien statt. Der Speiseplan von 1900 - was haben die Reichen gegessen und was gab es für die Armen. Wie lebten die Reichen und die Armen zur "guten alten Zeit". Erziehung und Ausbildung in den Adelsfamilien... Eine interessante und kindergerechte Führung im Alter von 7 bis 10 Jahre. \nPreis: Erwachsene 10\,50 € | Kind 8\,50 € (Eine erwachsene Person pro Kind.) 
LOCATION:Schloss Waldenburg
DTSTART:20260723T100000
DTEND:20260723T100000
DTSTAMP:20260424T115653Z
END:VEVENT
BEGIN:VEVENT
TZID:Europe/Berlin
UID:2949-1-1@www.waldenburg.de
SUMMARY:Kinderthemenprogramm "Leben in einem Schloss"
DESCRIPTION:Unsere beliebte Kinderführung "Leben in einem Schloss" mit den beiden Zwillingsbrüdern "Micha &amp\; Mischa" findet wieder in den Ferien statt. Der Speiseplan von 1900 - was haben die Reichen gegessen und was gab es für die Armen. Wie lebten die Reichen und die Armen zur "guten alten Zeit". Erziehung und Ausbildung in den Adelsfamilien... Eine interessante und kindergerechte Führung im Alter von 7 bis 10 Jahre. \nPreis: Erwachsene 10\,50 € | Kind 8\,50 € (Eine erwachsene Person pro Kind.) 
LOCATION:Schloss Waldenburg
DTSTART:20260723T130000
DTEND:20260723T130000
DTSTAMP:20260424T115653Z
END:VEVENT
END:VCALENDAR