BEGIN:VCALENDAR
CALSCALE:GREGORIAN
VERSION:2.0
METHOD:PUBLISH
PRODID:www.waldenburg.de
BEGIN:VEVENT
TZID:Europe/Berlin
UID:2950-1-1@www.waldenburg.de
SUMMARY:Kinderthemenprogramm "Fürstenbrot backen"
DESCRIPTION:Backen\, entdecken und genießen\nKinder erleben einen zauberhaften Tag im Schloss.\nWir backen gemeinsam "Fürstenbrot" in der historischen Küche im Schloss Waldenburg.\nIm Anschluss wird eine große Tafel in einem unserer Festsäle eingedeckt und zusammen mit der Begleitperson in fürstlicher Atmosphäre gemeinschaftliche genossen.\nEin spannender Rundgang und spielerisches Lernen von "vornehmen" Tischmanieren macht das Erlebnis perfekt.\nEin besonderer Tag voller Spaß für Klein mit Groß.Preis inkl. Mittagessen ("Fürstenbrot"): Erwachsene 14\,50 € | Kind 14\,50 €
LOCATION:Schloss Waldenburg
DTSTART:20260729T103000
DTEND:20260729T103000
DTSTAMP:20260424T115602Z
END:VEVENT
BEGIN:VEVENT
TZID:Europe/Berlin
UID:2951-1-1@www.waldenburg.de
SUMMARY:Kinderthemenprogramm "Fürstenbrot backen"
DESCRIPTION:Backen\, entdecken und genießen\nKinder erleben einen zauberhaften Tag im Schloss.\nWir backen gemeinsam "Fürstenbrot" in der historischen Küche im Schloss Waldenburg.\nIm Anschluss wird eine große Tafel in einem unserer Festsäle eingedeckt und zusammen mit der Begleitperson in fürstlicher Atmosphäre gemeinschaftliche genossen.\nEin spannender Rundgang und spielerisches Lernen von "vornehmen" Tischmanieren macht das Erlebnis perfekt.\nEin besonderer Tag voller Spaß für Klein mit Groß.Preis inkl. Mittagessen ("Fürstenbrot"): Erwachsene 14\,50 € | Kind 14\,50 €
LOCATION:Schloss Waldenburg
DTSTART:20260730T103000
DTEND:20260730T103000
DTSTAMP:20260424T115602Z
END:VEVENT
END:VCALENDAR